BEGIN:VCALENDAR
VERSION:2.0
PRODID:-//Crossways Lutheran School - ECPv4.8.0.1//NONSGML v1.0//EN
CALSCALE:GREGORIAN
METHOD:PUBLISH
X-WR-CALNAME:Crossways Lutheran School
X-ORIGINAL-URL:https://www.crossways.sa.edu.au
X-WR-CALDESC:Events for Crossways Lutheran School
BEGIN:VEVENT
DTSTART;TZID=Australia/Adelaide:20190301T090000
DTEND;TZID=Australia/Adelaide:20190301T150000
DTSTAMP:20190301T104916
CREATED:20190205T010916Z
LAST-MODIFIED:20190205T010916Z
UID:3133-1551430800-1551452400@www.crossways.sa.edu.au
SUMMARY:SPORTS DAY
DESCRIPTION:
URL:https://www.crossways.sa.edu.au/event/sports-day/
LOCATION:Crossways Lutheran School\, 4 smith rd\, Ceduna\, SA\, 5690\, Australia
END:VEVENT
BEGIN:VEVENT
DTSTART;TZID=Australia/Adelaide:20190307T080000
DTEND;TZID=Australia/Adelaide:20190307T170000
DTSTAMP:20190301T104916
CREATED:20190205T010948Z
LAST-MODIFIED:20190214T022622Z
UID:3135-1551945600-1551978000@www.crossways.sa.edu.au
SUMMARY:WCIAC Sports
DESCRIPTION:
URL:https://www.crossways.sa.edu.au/event/wciac-sports/
LOCATION:Crossways Lutheran School\, 4 smith rd\, Ceduna\, SA\, 5690\, Australia
END:VEVENT
BEGIN:VEVENT
DTSTART;VALUE=DATE:20190311
DTEND;VALUE=DATE:20190312
DTSTAMP:20190301T104916
CREATED:20190205T011022Z
LAST-MODIFIED:20190214T022642Z
UID:3137-1552262400-1552348799@www.crossways.sa.edu.au
SUMMARY:Adelaide Cup Day HOLIDAY
DESCRIPTION:
URL:https://www.crossways.sa.edu.au/event/adelaide-cup-day-holiday/
LOCATION:Crossways Lutheran School\, 4 smith rd\, Ceduna\, SA\, 5690\, Australia
END:VEVENT
BEGIN:VEVENT
DTSTART;VALUE=DATE:20190321
DTEND;VALUE=DATE:20190322
DTSTAMP:20190301T104916
CREATED:20190205T011109Z
LAST-MODIFIED:20190205T011109Z
UID:3140-1553126400-1553212799@www.crossways.sa.edu.au
SUMMARY:Closing the Gap day
DESCRIPTION:
URL:https://www.crossways.sa.edu.au/event/closing-the-gap-day/
END:VEVENT
BEGIN:VEVENT
DTSTART;TZID=Australia/Adelaide:20190327T080000
DTEND;TZID=Australia/Adelaide:20190329T170000
DTSTAMP:20190301T104916
CREATED:20190205T011150Z
LAST-MODIFIED:20190205T011150Z
UID:3142-1553673600-1553878800@www.crossways.sa.edu.au
SUMMARY:Year 5 ERRAPPA Camp
DESCRIPTION:
URL:https://www.crossways.sa.edu.au/event/year-5-errappa-camp/
END:VEVENT
END:VCALENDAR